BEGIN:VCALENDAR
VERSION:2.0
PRODID:-//Lycée Français de New York - ECPv6.15.20//NONSGML v1.0//EN
CALSCALE:GREGORIAN
METHOD:PUBLISH
X-ORIGINAL-URL:https://www.lfny.org
X-WR-CALDESC:Évènements pour Lycée Français de New York
REFRESH-INTERVAL;VALUE=DURATION:PT1H
X-Robots-Tag:noindex
X-PUBLISHED-TTL:PT1H
BEGIN:VTIMEZONE
TZID:America/New_York
BEGIN:DAYLIGHT
TZOFFSETFROM:-0500
TZOFFSETTO:-0400
TZNAME:EDT
DTSTART:20250309T070000
END:DAYLIGHT
BEGIN:STANDARD
TZOFFSETFROM:-0400
TZOFFSETTO:-0500
TZNAME:EST
DTSTART:20251102T060000
END:STANDARD
BEGIN:DAYLIGHT
TZOFFSETFROM:-0500
TZOFFSETTO:-0400
TZNAME:EDT
DTSTART:20260308T070000
END:DAYLIGHT
BEGIN:STANDARD
TZOFFSETFROM:-0400
TZOFFSETTO:-0500
TZNAME:EST
DTSTART:20261101T060000
END:STANDARD
BEGIN:DAYLIGHT
TZOFFSETFROM:-0500
TZOFFSETTO:-0400
TZNAME:EDT
DTSTART:20270314T070000
END:DAYLIGHT
BEGIN:STANDARD
TZOFFSETFROM:-0400
TZOFFSETTO:-0500
TZNAME:EST
DTSTART:20271107T060000
END:STANDARD
BEGIN:DAYLIGHT
TZOFFSETFROM:-0500
TZOFFSETTO:-0400
TZNAME:EDT
DTSTART:20280312T070000
END:DAYLIGHT
BEGIN:STANDARD
TZOFFSETFROM:-0400
TZOFFSETTO:-0500
TZNAME:EST
DTSTART:20281105T060000
END:STANDARD
END:VTIMEZONE
BEGIN:VTIMEZONE
TZID:UTC
BEGIN:STANDARD
TZOFFSETFROM:+0000
TZOFFSETTO:+0000
TZNAME:UTC
DTSTART:20250101T000000
END:STANDARD
END:VTIMEZONE
BEGIN:VEVENT
DTSTART;VALUE=DATE:20260525
DTEND;VALUE=DATE:20260526
DTSTAMP:20260422T185308
CREATED:20260324T151020Z
LAST-MODIFIED:20260422T113206Z
UID:10000086-1779667200-1779753599@www.lfny.org
SUMMARY:Memorial Day - École fermée
DESCRIPTION:
URL:https://www.lfny.org/event/memorial-day-ecole-fermee/
END:VEVENT
BEGIN:VEVENT
DTSTART;TZID=UTC:20260527T190000
DTEND;TZID=UTC:20260527T200000
DTSTAMP:20260422T185308
CREATED:20260417T074729Z
LAST-MODIFIED:20260422T081709Z
UID:10000171-1779908400-1779912000@www.lfny.org
SUMMARY:7MINUTES
DESCRIPTION:
URL:https://www.lfny.org/event/7minutes-2/
CATEGORIES:Cultural Center,theatre-en-francais
ATTACH;FMTTYPE=image/webp:https://www.lfny.org/wp-content/uploads/2026/04/e3135b58-381c-41da-af14-f5e46f770980-zjYBOD.webp
END:VEVENT
BEGIN:VEVENT
DTSTART;VALUE=DATE:20260617
DTEND;VALUE=DATE:20260618
DTSTAMP:20260422T185308
CREATED:20260324T151020Z
LAST-MODIFIED:20260422T113206Z
UID:10000088-1781654400-1781740799@www.lfny.org
SUMMARY:Maternelle : dernier jour d'école
DESCRIPTION:
URL:https://www.lfny.org/event/maternelle-dernier-jour-decole/
END:VEVENT
BEGIN:VEVENT
DTSTART;VALUE=DATE:20260618
DTEND;VALUE=DATE:20260619
DTSTAMP:20260422T185308
CREATED:20260324T151020Z
LAST-MODIFIED:20260422T113206Z
UID:10000087-1781740800-1781827199@www.lfny.org
SUMMARY:Du CP au CM2 : dernier jour d'école
DESCRIPTION:
URL:https://www.lfny.org/event/du-cp-au-cm2-dernier-jour-decole/
END:VEVENT
BEGIN:VEVENT
DTSTART;VALUE=DATE:20260619
DTEND;VALUE=DATE:20260620
DTSTAMP:20260422T185308
CREATED:20260324T151020Z
LAST-MODIFIED:20260422T113206Z
UID:10000089-1781827200-1781913599@www.lfny.org
SUMMARY:Juneteenth - École fermée
DESCRIPTION:
URL:https://www.lfny.org/event/juneteenth-ecole-fermee/
END:VEVENT
BEGIN:VEVENT
DTSTART;VALUE=DATE:20260622
DTEND;VALUE=DATE:20260623
DTSTAMP:20260422T185308
CREATED:20260324T151020Z
LAST-MODIFIED:20260422T113206Z
UID:10000091-1782086400-1782172799@www.lfny.org
SUMMARY:Journée de développement professionnel
DESCRIPTION:
URL:https://www.lfny.org/event/journee-de-developpement-professionnel/
END:VEVENT
BEGIN:VEVENT
DTSTART;VALUE=DATE:20260623
DTEND;VALUE=DATE:20260624
DTSTAMP:20260422T185308
CREATED:20260324T151020Z
LAST-MODIFIED:20260422T113206Z
UID:10000090-1782172800-1782259199@www.lfny.org
SUMMARY:Dernier jour pour les enseignants
DESCRIPTION:
URL:https://www.lfny.org/event/dernier-jour-pour-les-enseignants/
END:VEVENT
BEGIN:VEVENT
DTSTART;VALUE=DATE:20260703
DTEND;VALUE=DATE:20260704
DTSTAMP:20260422T185308
CREATED:20260324T151020Z
LAST-MODIFIED:20260422T113206Z
UID:10000092-1783036800-1783123199@www.lfny.org
SUMMARY:Independence Day | Fête nationale américaine - École fermée
DESCRIPTION:
URL:https://www.lfny.org/event/independence-day-fete-nationale-americaine-ecole-fermee/
END:VEVENT
BEGIN:VEVENT
DTSTART;VALUE=DATE:20260714
DTEND;VALUE=DATE:20260715
DTSTAMP:20260422T185308
CREATED:20260324T151020Z
LAST-MODIFIED:20260422T113206Z
UID:10000093-1783987200-1784073599@www.lfny.org
SUMMARY:Fête nationale française - École fermée
DESCRIPTION:
URL:https://www.lfny.org/event/fete-nationale-francaise-ecole-fermee/
END:VEVENT
BEGIN:VEVENT
DTSTART;VALUE=DATE:20260824
DTEND;VALUE=DATE:20260829
DTSTAMP:20260422T185308
CREATED:20260324T151020Z
LAST-MODIFIED:20260422T113206Z
UID:10000094-1787529600-1787961599@www.lfny.org
SUMMARY:Semaine d'orientation du personnel
DESCRIPTION:
URL:https://www.lfny.org/event/semaine-dorientation-du-personnel/
END:VEVENT
BEGIN:VEVENT
DTSTART;VALUE=DATE:20260831
DTEND;VALUE=DATE:20260901
DTSTAMP:20260422T185308
CREATED:20260324T151021Z
LAST-MODIFIED:20260422T113206Z
UID:10000095-1788134400-1788220799@www.lfny.org
SUMMARY:6e - Tle : Rentrée
DESCRIPTION:
URL:https://www.lfny.org/event/6e-tle-rentree/
END:VEVENT
BEGIN:VEVENT
DTSTART;VALUE=DATE:20260901
DTEND;VALUE=DATE:20260902
DTSTAMP:20260422T185308
CREATED:20260324T151021Z
LAST-MODIFIED:20260422T113218Z
UID:10000097-1788220800-1788307199@www.lfny.org
SUMMARY:CP - CM2 : Rentrée
DESCRIPTION:
URL:https://www.lfny.org/event/cp-cm2-rentree/
END:VEVENT
BEGIN:VEVENT
DTSTART;VALUE=DATE:20260902
DTEND;VALUE=DATE:20260903
DTSTAMP:20260422T185308
CREATED:20260324T151021Z
LAST-MODIFIED:20260422T113218Z
UID:10000096-1788307200-1788393599@www.lfny.org
SUMMARY:Grande section : Rentrée
DESCRIPTION:
URL:https://www.lfny.org/event/grande-section-rentree/
END:VEVENT
BEGIN:VEVENT
DTSTART;VALUE=DATE:20260903
DTEND;VALUE=DATE:20260904
DTSTAMP:20260422T185308
CREATED:20260324T151021Z
LAST-MODIFIED:20260422T113218Z
UID:10000098-1788393600-1788479999@www.lfny.org
SUMMARY:Petite et moyenne sections : Rentrée (1/2 journée)
DESCRIPTION:
URL:https://www.lfny.org/event/petite-et-moyenne-sections-rentree-1-2-journee/
END:VEVENT
BEGIN:VEVENT
DTSTART;VALUE=DATE:20260907
DTEND;VALUE=DATE:20260908
DTSTAMP:20260422T185308
CREATED:20260324T151021Z
LAST-MODIFIED:20260422T113218Z
UID:10000099-1788739200-1788825599@www.lfny.org
SUMMARY:Labor Day -École fermée
DESCRIPTION:
URL:https://www.lfny.org/event/labor-day-ecole-fermee/
END:VEVENT
BEGIN:VEVENT
DTSTART;VALUE=DATE:20260921
DTEND;VALUE=DATE:20260922
DTSTAMP:20260422T185308
CREATED:20260324T151021Z
LAST-MODIFIED:20260422T113218Z
UID:10000100-1789948800-1790035199@www.lfny.org
SUMMARY:Yom Kippur - École fermée
DESCRIPTION:
URL:https://www.lfny.org/event/yom-kippur-ecole-fermee/
END:VEVENT
BEGIN:VEVENT
DTSTART;VALUE=DATE:20261010
DTEND;VALUE=DATE:20261019
DTSTAMP:20260422T185308
CREATED:20260324T151021Z
LAST-MODIFIED:20260422T113218Z
UID:10000102-1791590400-1792367999@www.lfny.org
SUMMARY:Vacances d'automne - Pas de cours
DESCRIPTION:
URL:https://www.lfny.org/event/vacances-dautomne-pas-de-cours/
END:VEVENT
BEGIN:VEVENT
DTSTART;VALUE=DATE:20261012
DTEND;VALUE=DATE:20261013
DTSTAMP:20260422T185308
CREATED:20260324T151021Z
LAST-MODIFIED:20260422T113218Z
UID:10000101-1791763200-1791849599@www.lfny.org
SUMMARY:Indigenous Peoples Day - École fermée
DESCRIPTION:
URL:https://www.lfny.org/event/indigenous-peoples-day-ecole-fermee/
END:VEVENT
BEGIN:VEVENT
DTSTART;VALUE=DATE:20261125
DTEND;VALUE=DATE:20261130
DTSTAMP:20260422T185308
CREATED:20260324T151021Z
LAST-MODIFIED:20260422T113218Z
UID:10000103-1795564800-1795996799@www.lfny.org
SUMMARY:Fête de Thanksgiving - École fermée
DESCRIPTION:
URL:https://www.lfny.org/event/fete-de-thanksgiving-ecole-fermee/
END:VEVENT
BEGIN:VEVENT
DTSTART;VALUE=DATE:20261219
DTEND;VALUE=DATE:20270104
DTSTAMP:20260422T185308
CREATED:20260324T151021Z
LAST-MODIFIED:20260422T113230Z
UID:10000104-1797638400-1799020799@www.lfny.org
SUMMARY:Vacances d'hiver - École fermée
DESCRIPTION:
URL:https://www.lfny.org/event/vacances-dhiver-ecole-fermee/
END:VEVENT
BEGIN:VEVENT
DTSTART;VALUE=DATE:20261225
DTEND;VALUE=DATE:20261226
DTSTAMP:20260422T185308
CREATED:20260324T151021Z
LAST-MODIFIED:20260422T113218Z
UID:10000105-1798156800-1798243199@www.lfny.org
SUMMARY:Noël - École fermée
DESCRIPTION:
URL:https://www.lfny.org/event/noel-ecole-fermee/
END:VEVENT
BEGIN:VEVENT
DTSTART;VALUE=DATE:20270101
DTEND;VALUE=DATE:20270102
DTSTAMP:20260422T185308
CREATED:20260324T151021Z
LAST-MODIFIED:20260422T113218Z
UID:10000106-1798761600-1798847999@www.lfny.org
SUMMARY:Jour de l'an - École fermée
DESCRIPTION:
URL:https://www.lfny.org/event/jour-de-lan-ecole-fermee/
END:VEVENT
END:VCALENDAR