BEGIN:VCALENDAR
VERSION:2.0
PRODID:-//Lycée Français de New York - ECPv6.15.20//NONSGML v1.0//EN
CALSCALE:GREGORIAN
METHOD:PUBLISH
X-WR-CALNAME:Lycée Français de New York
X-ORIGINAL-URL:https://www.lfny.org
X-WR-CALDESC:Évènements pour Lycée Français de New York
REFRESH-INTERVAL;VALUE=DURATION:PT1H
X-Robots-Tag:noindex
X-PUBLISHED-TTL:PT1H
BEGIN:VTIMEZONE
TZID:UTC
BEGIN:STANDARD
TZOFFSETFROM:+0000
TZOFFSETTO:+0000
TZNAME:UTC
DTSTART:20250101T000000
END:STANDARD
END:VTIMEZONE
BEGIN:VTIMEZONE
TZID:America/New_York
BEGIN:DAYLIGHT
TZOFFSETFROM:-0500
TZOFFSETTO:-0400
TZNAME:EDT
DTSTART:20250309T070000
END:DAYLIGHT
BEGIN:STANDARD
TZOFFSETFROM:-0400
TZOFFSETTO:-0500
TZNAME:EST
DTSTART:20251102T060000
END:STANDARD
BEGIN:DAYLIGHT
TZOFFSETFROM:-0500
TZOFFSETTO:-0400
TZNAME:EDT
DTSTART:20260308T070000
END:DAYLIGHT
BEGIN:STANDARD
TZOFFSETFROM:-0400
TZOFFSETTO:-0500
TZNAME:EST
DTSTART:20261101T060000
END:STANDARD
BEGIN:DAYLIGHT
TZOFFSETFROM:-0500
TZOFFSETTO:-0400
TZNAME:EDT
DTSTART:20270314T070000
END:DAYLIGHT
BEGIN:STANDARD
TZOFFSETFROM:-0400
TZOFFSETTO:-0500
TZNAME:EST
DTSTART:20271107T060000
END:STANDARD
END:VTIMEZONE
BEGIN:VEVENT
DTSTART;TZID=UTC:20260429T183000
DTEND;TZID=UTC:20260429T200000
DTSTAMP:20260422T185243
CREATED:20260411T100817Z
LAST-MODIFIED:20260422T081709Z
UID:10000156-1777487400-1777492800@www.lfny.org
SUMMARY:Francophone Short Films in Harlem
DESCRIPTION:
URL:https://www.lfny.org/event/francophone-short-films-in-harlem/
CATEGORIES:Cultural Center,soiree-speciale
ATTACH;FMTTYPE=image/png:https://www.lfny.org/wp-content/uploads/2026/04/FsF-Affiche-2026-avec-sponsors-PMT86r.png
END:VEVENT
BEGIN:VEVENT
DTSTART;TZID=UTC:20260425T153000
DTEND;TZID=UTC:20260425T170000
DTSTAMP:20260422T185243
CREATED:20260417T074728Z
LAST-MODIFIED:20260422T081709Z
UID:10000170-1777131000-1777136400@www.lfny.org
SUMMARY:Molière pour les nuls !
DESCRIPTION:
URL:https://www.lfny.org/event/moliere-pour-les-nuls/
CATEGORIES:Cultural Center,theatre-en-francais
ATTACH;FMTTYPE=image/webp:https://www.lfny.org/wp-content/uploads/2026/04/c46977d5-7c49-4f81-8bb6-f61af31f6c4d-FDxHji.webp
END:VEVENT
BEGIN:VEVENT
DTSTART;TZID=UTC:20260425T133000
DTEND;TZID=UTC:20260425T150000
DTSTAMP:20260422T185243
CREATED:20260415T102311Z
LAST-MODIFIED:20260422T081709Z
UID:10000163-1777123800-1777129200@www.lfny.org
SUMMARY:Dictée géante
DESCRIPTION:
URL:https://www.lfny.org/event/dictee-geante/
CATEGORIES:Cultural Center,fair
ATTACH;FMTTYPE=image/jpeg:https://www.lfny.org/wp-content/uploads/2026/04/https___cdn.evbuc_.com_images_1180795679_32111136447_1_original-scaled-UdyxAl.jpg
END:VEVENT
BEGIN:VEVENT
DTSTART;TZID=UTC:20260425T103000
DTEND;TZID=UTC:20260425T120000
DTSTAMP:20260422T185243
CREATED:20260415T102308Z
LAST-MODIFIED:20260422T081708Z
UID:10000161-1777113000-1777118400@www.lfny.org
SUMMARY:Projection spéciale - Dilili à Paris et Q&A avec Michel Ocelot
DESCRIPTION:
URL:https://www.lfny.org/event/projection-speciale-dilili-a-paris-et-qa-avec-michel-ocelot/
CATEGORIES:Cultural Center,soiree-speciale
ATTACH;FMTTYPE=image/jpeg:https://www.lfny.org/wp-content/uploads/2026/04/dilili-cBNWmT.jpg
END:VEVENT
BEGIN:VEVENT
DTSTART;TZID=UTC:20260425T103000
DTEND;TZID=UTC:20260425T113000
DTSTAMP:20260422T185243
CREATED:20260415T102310Z
LAST-MODIFIED:20260422T081708Z
UID:10000162-1777113000-1777116600@www.lfny.org
SUMMARY:Table ronde - Écrire l'Histoire
DESCRIPTION:
URL:https://www.lfny.org/event/table-ronde-ecrire-lhistoire/
CATEGORIES:Cultural Center,panel-discussion
ATTACH;FMTTYPE=image/jpeg:https://www.lfny.org/wp-content/uploads/2026/04/PHOTO_Marianne_Jaegle_Photo_F_Matovani-OtHCVs.jpg
END:VEVENT
BEGIN:VEVENT
DTSTART;TZID=UTC:20260425T093000
DTEND;TZID=UTC:20260425T170000
DTSTAMP:20260422T185243
CREATED:20260401T075859Z
LAST-MODIFIED:20260422T081708Z
UID:10000137-1777109400-1777136400@www.lfny.org
SUMMARY:En Français\, Oui but Why?
DESCRIPTION:
URL:https://www.lfny.org/event/en-francais-oui-but-why/
CATEGORIES:Cultural Center,festival
ATTACH;FMTTYPE=image/jpeg:https://www.lfny.org/wp-content/uploads/2026/03/le-francais-oui-but-why-long-9mgAvz.jpg
END:VEVENT
BEGIN:VEVENT
DTSTART;TZID=UTC:20260423T183000
DTEND;TZID=UTC:20260423T200000
DTSTAMP:20260422T185243
CREATED:20260401T075858Z
LAST-MODIFIED:20260422T081708Z
UID:10000136-1776969000-1776974400@www.lfny.org
SUMMARY:Insuline & Magnolia
DESCRIPTION:
URL:https://www.lfny.org/event/insuline-magnolia/
CATEGORIES:Cultural Center,theatre-en-francais
ATTACH;FMTTYPE=image/jpeg:https://www.lfny.org/wp-content/uploads/2026/03/IM-visuel-sup2-credit-Ludo-copy-scaled-cC1QdR.jpg
END:VEVENT
BEGIN:VEVENT
DTSTART;TZID=UTC:20260422T183000
DTEND;TZID=UTC:20260422T200000
DTSTAMP:20260422T185243
CREATED:20260401T075858Z
LAST-MODIFIED:20260422T081708Z
UID:10000135-1776882600-1776888000@www.lfny.org
SUMMARY:Jour de la terre - Projet One Home
DESCRIPTION:
URL:https://www.lfny.org/event/jour-de-la-terre-projet-one-home/
CATEGORIES:Cultural Center,panel-discussion
ATTACH;FMTTYPE=image/jpeg:https://www.lfny.org/wp-content/uploads/2026/03/epic_1b_20190627120836-MunCMH.jpg
END:VEVENT
BEGIN:VEVENT
DTSTART;VALUE=DATE:20260404
DTEND;VALUE=DATE:20260420
DTSTAMP:20260422T185243
CREATED:20260324T151019Z
LAST-MODIFIED:20260419T105306Z
UID:10000085-1775260800-1776643199@www.lfny.org
SUMMARY:Vacances de printemps - Pas de cours
DESCRIPTION:
URL:https://www.lfny.org/event/vacances-de-printemps-pas-de-cours/
END:VEVENT
END:VCALENDAR